BEGIN:VCALENDAR
VERSION:2.0
PRODID:-//3nity.com//3nity CMS//EN
BEGIN:VEVENT
SUMMARY:Monthly TAAF Support Groups
UID:2026-07-18-1200307@taafonline.org
SEQUENCE:0
STATUS:CONFIRMED
DTSTART:20261210T180000
DTEND:20261210T200000
DTSTAMP:20161222T120000
DESCRIPTION:Our Monthly Support Group Meetings are a key part of fulfilling our mission at TAAF, offering a warm and familial environment for everyone involved from coast to coast and around the globe.
URL:http://taafonline.org
END:VEVENT
END:VCALENDAR
